BEGIN:VCALENDAR
VERSION:2.0
PRODID:-//KGV Neukirchen - ECPv6.15.18//NONSGML v1.0//EN
CALSCALE:GREGORIAN
METHOD:PUBLISH
X-ORIGINAL-URL:https://kgv-neukirchen.de
X-WR-CALDESC:Veranstaltungen für KGV Neukirchen
REFRESH-INTERVAL;VALUE=DURATION:PT1H
X-Robots-Tag:noindex
X-PUBLISHED-TTL:PT1H
BEGIN:VTIMEZONE
TZID:Europe/Berlin
BEGIN:DAYLIGHT
TZOFFSETFROM:+0100
TZOFFSETTO:+0200
TZNAME:CEST
DTSTART:20250330T010000
END:DAYLIGHT
BEGIN:STANDARD
TZOFFSETFROM:+0200
TZOFFSETTO:+0100
TZNAME:CET
DTSTART:20251026T010000
END:STANDARD
BEGIN:DAYLIGHT
TZOFFSETFROM:+0100
TZOFFSETTO:+0200
TZNAME:CEST
DTSTART:20260329T010000
END:DAYLIGHT
BEGIN:STANDARD
TZOFFSETFROM:+0200
TZOFFSETTO:+0100
TZNAME:CET
DTSTART:20261025T010000
END:STANDARD
BEGIN:DAYLIGHT
TZOFFSETFROM:+0100
TZOFFSETTO:+0200
TZNAME:CEST
DTSTART:20270328T010000
END:DAYLIGHT
BEGIN:STANDARD
TZOFFSETFROM:+0200
TZOFFSETTO:+0100
TZNAME:CET
DTSTART:20271031T010000
END:STANDARD
END:VTIMEZONE
BEGIN:VEVENT
DTSTART;TZID=Europe/Berlin:20260418T140000
DTEND;TZID=Europe/Berlin:20260418T170000
DTSTAMP:20260423T165931
CREATED:20260326T184839Z
LAST-MODIFIED:20260328T125809Z
UID:1104-1776520800-1776531600@kgv-neukirchen.de
SUMMARY:Familienwanderung am Sebbelsee
DESCRIPTION:Der Wald rund um den Sebbelsee birgt so manches Geheimnis. Eines davon wollen wir an einem Samstagnachmittag gemeinsam lüften. Der KGV Neukirchen lädt Familien ein\, die Wanderschuhe zu schnüren und sich auf den Weg zu machen. \n\nUnser Ziel ist der Fabelweg Sebbelsee\, der sich ruhig durch die Natur schlängelt. Doch wir spazieren nicht einfach nur die sechs bis sieben Kilometer lange Strecke ab. Der gesamte Weg steht im Zeichen einer besonderen Aufgabe. Es heißt\, irgendwo in diesen Wäldern liege der alte Schatz von König Barbarossa verborgen. Schritt für Schritt folgen wir den Hinweisen\, die entlang der Route auf uns warten. \n  \n\nWanderführer Björn Diebel begleitet uns an diesem Nachmittag und kennt die Pfade am geheimnisvollen Sebbelsee genau. Gemeinsam achten wir auf die kleinen Zeichen am Wegesrand\, rätseln und suchen. Die Spannung wächst mit jedem zurückgelegten Kilometer\, bis die Kinder am Ende der Wanderung hoffentlich fündig werden und wir sie mit dem sagenumwobenen Schatz des Königs belohnen.\n\nDa wir auf naturnahen Pfaden unterwegs sind\, bleibt der Kinderwagen an diesem Tag am besten zu Hause\, da die Wege dafür nicht geeignet sind. \nWir treffen uns am Samstag\, den 18.04.2026\, um 14:00 Uhr am Wanderparkplatz Sebbelsee. Wer kein Mitglied im Verein ist\, zahlt einen Beitrag von zwei Euro pro Person.  Für die Wanderung sollte jeder selbst an Rucksackverpflegung und ausreichend Getränke denken. \nDamit wir den Nachmittag gut vorbereiten können\, ist eine VORHERIGE ANMELDUNG unbedingt erforderlich. Diese nehmen wir unter der Nummer 0173-1937751 oder per E-Mail an info@kgv-neukirchen.de entgegen.  \nWir freuen uns auf gemeinsame Stunden im Wald und auf strahlende Gesichter am Ende der Suche.
URL:https://kgv-neukirchen.de/tourenportal/familienwanderung-am-sebbelsee/
CATEGORIES:Wanderung
ATTACH;FMTTYPE=image/jpeg:https://kgv-neukirchen.de/wp-content/uploads/2026/03/2026-04-18-Familienwanderunh-Sebbelsee-KGV.jpg
END:VEVENT
END:VCALENDAR