BEGIN:VCALENDAR
VERSION:2.0
PRODID:-//KGV Neukirchen - ECPv6.15.18//NONSGML v1.0//EN
CALSCALE:GREGORIAN
METHOD:PUBLISH
X-WR-CALNAME:KGV Neukirchen
X-ORIGINAL-URL:https://kgv-neukirchen.de
X-WR-CALDESC:Veranstaltungen für KGV Neukirchen
REFRESH-INTERVAL;VALUE=DURATION:PT1H
X-Robots-Tag:noindex
X-PUBLISHED-TTL:PT1H
BEGIN:VTIMEZONE
TZID:Europe/Berlin
BEGIN:DAYLIGHT
TZOFFSETFROM:+0100
TZOFFSETTO:+0200
TZNAME:CEST
DTSTART:20240331T010000
END:DAYLIGHT
BEGIN:STANDARD
TZOFFSETFROM:+0200
TZOFFSETTO:+0100
TZNAME:CET
DTSTART:20241027T010000
END:STANDARD
BEGIN:DAYLIGHT
TZOFFSETFROM:+0100
TZOFFSETTO:+0200
TZNAME:CEST
DTSTART:20250330T010000
END:DAYLIGHT
BEGIN:STANDARD
TZOFFSETFROM:+0200
TZOFFSETTO:+0100
TZNAME:CET
DTSTART:20251026T010000
END:STANDARD
BEGIN:DAYLIGHT
TZOFFSETFROM:+0100
TZOFFSETTO:+0200
TZNAME:CEST
DTSTART:20260329T010000
END:DAYLIGHT
BEGIN:STANDARD
TZOFFSETFROM:+0200
TZOFFSETTO:+0100
TZNAME:CET
DTSTART:20261025T010000
END:STANDARD
END:VTIMEZONE
BEGIN:VEVENT
DTSTART;TZID=Europe/Berlin:20251123T110000
DTEND;TZID=Europe/Berlin:20251123T170000
DTSTAMP:20260423T225244
CREATED:20251101T095606Z
LAST-MODIFIED:20251101T100028Z
UID:855-1763895600-1763917200@kgv-neukirchen.de
SUMMARY:MTB - Tour „Novemberblues“
DESCRIPTION:Streckenlängelänge: ca. 34 KM\, 500 Höhenmeter\nTreffpunkt: Raiffeisenplatz Neukirchen\nGuide: Rainer Keim \nDer KGV Neukirchen lädt alle erfahrenen Mountainbiker zur herbstlichen MTB-Tour „Novemberblues“ ein.Auf anspruchsvollen Strecken rund um Neukirchen geht es durch Wald\, Feld und Höhenzüge – perfekt für alle\, die auch in der kühlen Jahreszeit nicht auf ihr Bike verzichten möchten. \nHinweise:\n• Teilnahme nur für erfahrene Mountainbiker\n• Es besteht Helmpflicht\n• Teilnahme auf eigene Gefahr \nKontakt:📞 06694 911878✉️ info@kgv-neukirchen.de
URL:https://kgv-neukirchen.de/tourenportal/mtb-tour-novemberblues/
LOCATION:Raiffeiesenplatz Neukirchen\, Raiffeisenplatz\, Neukirchen\, 34626\, Germany
CATEGORIES:Mountainbike-Tour
ATTACH;FMTTYPE=image/jpeg:https://kgv-neukirchen.de/wp-content/uploads/2025/11/hg_mountainbike_novemberblues_01.jpg
ORGANIZER;CN="KGV Neukirchen":MAILTO:info@kgv-neukirchen.de
END:VEVENT
END:VCALENDAR