BEGIN:VCALENDAR
VERSION:2.0
PRODID:-//KGV Neukirchen - ECPv6.15.18//NONSGML v1.0//EN
CALSCALE:GREGORIAN
METHOD:PUBLISH
X-WR-CALNAME:KGV Neukirchen
X-ORIGINAL-URL:https://kgv-neukirchen.de
X-WR-CALDESC:Veranstaltungen für KGV Neukirchen
REFRESH-INTERVAL;VALUE=DURATION:PT1H
X-Robots-Tag:noindex
X-PUBLISHED-TTL:PT1H
BEGIN:VTIMEZONE
TZID:Europe/Berlin
BEGIN:DAYLIGHT
TZOFFSETFROM:+0100
TZOFFSETTO:+0200
TZNAME:CEST
DTSTART:20250330T010000
END:DAYLIGHT
BEGIN:STANDARD
TZOFFSETFROM:+0200
TZOFFSETTO:+0100
TZNAME:CET
DTSTART:20251026T010000
END:STANDARD
BEGIN:DAYLIGHT
TZOFFSETFROM:+0100
TZOFFSETTO:+0200
TZNAME:CEST
DTSTART:20260329T010000
END:DAYLIGHT
BEGIN:STANDARD
TZOFFSETFROM:+0200
TZOFFSETTO:+0100
TZNAME:CET
DTSTART:20261025T010000
END:STANDARD
BEGIN:DAYLIGHT
TZOFFSETFROM:+0100
TZOFFSETTO:+0200
TZNAME:CEST
DTSTART:20270328T010000
END:DAYLIGHT
BEGIN:STANDARD
TZOFFSETFROM:+0200
TZOFFSETTO:+0100
TZNAME:CET
DTSTART:20271031T010000
END:STANDARD
END:VTIMEZONE
BEGIN:VEVENT
DTSTART;TZID=Europe/Berlin:20260110T183000
DTEND;TZID=Europe/Berlin:20260110T213000
DTSTAMP:20260423T195321
CREATED:20251019T133144Z
LAST-MODIFIED:20260110T110726Z
UID:648-1768069800-1768080600@kgv-neukirchen.de
SUMMARY:Sternwanderung Neukirchen
DESCRIPTION:  \n\n\n\nWegelänge: 4.5 KMDauer: ca. 2 StundenTreffpunkt: ACHTUNG ÄNDERUNG: Eichwaldhütte (wegen Gefahr des Schneebruchs am Eisenberg)Wanderführer: Björn & Martin DiebelErlebt einen besonderen Abend unter freiem Himmel: Gemeinsam entdecken wir die Schönheit des nächtlichen Himmels\, erfahren Spannendes über Sterne\, Planeten und Sternbilder – und genießen die Ruhe der Natur bei einer winterlichen Wanderung Rund um die Eichwaldhütte. Im Anschluss gibt es einen kleinen Snack und Lagerfeuer. Der Treffpunkt ist an der Eichwaldhütte um 18:30.Die Wanderung findet auch bei bewölktem Himmel statt.  \nAnmeldung bis zum 05.01.2025 bei:Björn DiebelMobil: 0173 1937751E-Mail: info@kgv-neukirchen.de \nEure Guides:Die „Diebel Brothers“ – Martin & Björn \n 
URL:https://kgv-neukirchen.de/tourenportal/sternwanderung-auf-dem-eisenberg/
LOCATION:Eisenberg\, Auf den Eisenberg 1\, Kirchheim\, 36275\, Germany
CATEGORIES:Wanderung
ATTACH;FMTTYPE=image/jpeg:https://kgv-neukirchen.de/wp-content/uploads/2025/10/2018-12-05-Morgendaemmerung-Neukirchen02.jpg
ORGANIZER;CN="KGV Neukirchen":MAILTO:info@kgv-neukirchen.de
END:VEVENT
END:VCALENDAR